BEGIN:VCALENDAR
VERSION:2.0
PRODID:-//ChamberMaster//Event Calendar 2.0//EN
METHOD:PUBLISH
X-PUBLISHED-TTL:P3D
REFRESH-INTERVAL:P3D
CALSCALE:GREGORIAN
BEGIN:VEVENT
DTSTART:20260422T183000Z
DTEND:20260422T190000Z
X-MICROSOFT-CDO-ALLDAYEVENT:FALSE
SUMMARY:Ribbon Cutting - TNT Coffee Lab\, LLC - 4/22/26
DESCRIPTION:Join us as we welcome TNT Coffee Lab\, LLC to the Chamber!\n\n	Pictures will be taken throughout the Ribbon Cutting ceremony.
X-ALT-DESC;FMTTYPE=text/html:Join us as we welcome TNT Coffee Lab\, LLC to the Chamber!\n<ul>\n	<li style="font-size: 14px\; line-height: 19.6px\;"><span style="font-family: arial\, helvetica\, sans-serif\; background-color: rgba(255\, 255\, 255\, 0)\; line-height: 19.6px\;">Pictures will be taken throughout the Ribbon Cutting ceremony.&nbsp\;</span></li>\n</ul>\n
LOCATION:TNT Coffee Lab\, LLC 273 Andersen Scout Camp Trail\, Unit 215 Houlton\, WI 54082
UID:e.2450.38604
SEQUENCE:3
DTSTAMP:20260421T084156Z
URL:https://education.hudsonwi.org/events/details/ribbon-cutting-tnt-coffee-lab-llc-4-22-26-38604
END:VEVENT

END:VCALENDAR
