BEGIN:VCALENDAR
VERSION:2.0
PRODID:-//ChamberMaster//Event Calendar 2.0//EN
METHOD:PUBLISH
X-PUBLISHED-TTL:P3D
REFRESH-INTERVAL:P3D
CALSCALE:GREGORIAN
BEGIN:VEVENT
DTSTART:20240623T150000Z
DTEND:20240623T200000Z
X-MICROSOFT-CDO-ALLDAYEVENT:FALSE
SUMMARY:Hudson Hound Wash
DESCRIPTION:Please join us rain or shine at Angel's Pet World for the Annual Charity Dog Wash! the event will be held indoor and outdoor - enjoy good food\, shop vendors\, and get your favorite pooch washed!\n\n\n\nAll proceeds to benefit Hudson Police Department Canine Unit and Lucky Paws Midwest.
X-ALT-DESC;FMTTYPE=text/html:Please join us rain or shine at Angel&#39\;s Pet World for the Annual Charity Dog Wash! the event will be held indoor and outdoor - enjoy good food\, shop vendors\, and get your favorite pooch washed!<br />\n<br />\nAll proceeds to benefit Hudson Police Department Canine Unit and Lucky Paws Midwest.
LOCATION:Angel's Pet World 105 2nd St\, Hudson\, WI\, 54016
UID:e.2450.30583
SEQUENCE:3
DTSTAMP:20260420T053517Z
URL:https://education.hudsonwi.org/events/details/hudson-hound-wash-30583
END:VEVENT

END:VCALENDAR
