BEGIN:VCALENDAR
VERSION:2.0
PRODID:-//ChamberMaster//Event Calendar 2.0//EN
METHOD:PUBLISH
X-PUBLISHED-TTL:P3D
REFRESH-INTERVAL:P3D
CALSCALE:GREGORIAN
BEGIN:VEVENT
DTSTART:20240517T223000Z
DTEND:20240518T003000Z
X-MICROSOFT-CDO-ALLDAYEVENT:FALSE
SUMMARY:Bowl for Kids' Sake 2024 - Holiday Extravaganza
DESCRIPTION:BOWL FOR KIDS' SAKE 2024 - HOLIDAY EXTRAVAGANZA\n\n\n\nAn evening of camaraderie and fun to support one-to-one mentoring. Gather 4-6 friends to form a team. Prizes\, team costume contest\, and more. The funds generated from Bowl For Kids' Sake help Big Brothers Big Sisters continue to provide mentorship programs that empower youth to reach their full potential and build stronger communities. Visit www.bbbsnw.org/bfks to get your team registered.
X-ALT-DESC;FMTTYPE=text/html:<p style="margin-left:0in\; margin-right:0in"><span style="color:#666666\; font-family:arial\,sans-serif\; font-size:10.5pt"><u><strong>BOWL FOR KIDS&#39\; SAKE 2024 - HOLIDAY EXTRAVAGANZA</strong></u><br />\n<br />\nAn evening of camaraderie and fun to support one-to-one mentoring. Gather 4-6 friends to form a team. Prizes\, team costume contest\, and more. The funds generated from Bowl For Kids&#39\; Sake help Big Brothers Big Sisters continue to provide mentorship programs that empower youth to reach their full potential and build stronger communities. Visit <a href="https://www.bbbsnw.org/bfks">www.bbbsnw.org/bfks</a> to get your team registered.</span></p>\n
LOCATION:Hudson Bowling Center 1801 Ward Ave Ste 224 Hudson\, WI 54016
UID:e.2450.29416
SEQUENCE:3
DTSTAMP:20260425T035057Z
URL:https://education.hudsonwi.org/events/details/bowl-for-kids-sake-2024-holiday-extravaganza-29416
END:VEVENT

END:VCALENDAR
