BEGIN:VCALENDAR
VERSION:2.0
PRODID:-//ChamberMaster//Event Calendar 2.0//EN
METHOD:PUBLISH
X-PUBLISHED-TTL:P3D
REFRESH-INTERVAL:P3D
CALSCALE:GREGORIAN
BEGIN:VEVENT
DTSTART:20191022T170000Z
DTEND:20191023T010000Z
X-MICROSOFT-CDO-ALLDAYEVENT:FALSE
SUMMARY:UWRF Noncredit Classes Virtual Open House
DESCRIPTION:UW-River Falls is partnering with ProTrain\; a leader in workforce development courses. Attend our noncredit classes virtual open house on October 22 at noon-1 p.m. or 6:30-7:30 p.m. to learn how you can level up\, retool or enter an exciting new career. Learn about what employers in this area are seeking out and how convenient online learning can help you achieve your goals! Register today for one of the sessions and visit our website to learn more!
X-ALT-DESC;FMTTYPE=text/html:UW-River Falls is partnering with ProTrain\; a leader in workforce development courses. Attend our noncredit classes virtual open house on October 22 at noon-1 p.m. or 6:30-7:30 p.m. to learn how you can level up\, retool or enter an exciting new career. Learn about what employers in this area are seeking out and how convenient online learning can help you achieve your goals! Register today for one of the sessions and visit our website to learn more!
LOCATION:Online through www.uwrf.edu/ContinuingEducation
UID:e.2450.14503
SEQUENCE:3
DTSTAMP:20260420T204439Z
URL:http://education.hudsonwi.org/events/details/uwrf-noncredit-classes-virtual-open-house-14503
END:VEVENT

END:VCALENDAR
