BEGIN:VCALENDAR
VERSION:2.0
PRODID:-//ChamberMaster//Event Calendar 2.0//EN
METHOD:PUBLISH
X-PUBLISHED-TTL:P3D
REFRESH-INTERVAL:P3D
CALSCALE:GREGORIAN
BEGIN:VEVENT
DTSTART:20190715T130000Z
DTEND:20190716T220000Z
X-MICROSOFT-CDO-ALLDAYEVENT:FALSE
SUMMARY:SHRM Essentials
DESCRIPTION:Are you prepared to handle your day-to-day HR challenges?\n\nAttend UW-Stout's two day Society for Human Resources Management (SHRM) Essentials course that covers the topics you need to meet key HR challenges.
X-ALT-DESC;FMTTYPE=text/html:Are you prepared to handle your day-to-day HR challenges?<br />\nAttend UW-Stout&#39\;s two day Society for Human Resources Management (SHRM) Essentials course that covers the topics you need to meet key HR challenges.&nbsp\;
LOCATION:UW-Stout Jarvis Hall Science Wing 712 Broadway St S Menomonie\, Wisconsin 54751
UID:e.2450.14275
SEQUENCE:3
DTSTAMP:20260421T045116Z
URL:http://education.hudsonwi.org/events/details/shrm-essentials-14275
END:VEVENT

END:VCALENDAR
