BEGIN:VCALENDAR
VERSION:2.0
PRODID:-//ChamberMaster//Event Calendar 2.0//EN
METHOD:PUBLISH
X-PUBLISHED-TTL:P3D
REFRESH-INTERVAL:P3D
CALSCALE:GREGORIAN
BEGIN:VEVENT
DTSTART:20190903T130000Z
DTEND:20190903T130000Z
X-MICROSOFT-CDO-ALLDAYEVENT:FALSE
SUMMARY:SHRM CP or SCP Certification Preparation
DESCRIPTION:Commit to Your Career Society for Human Resources Management's (SHRM) global HR credentials: SHRM-Certified Professional (CP) and SHRM-Senior Certified Professional (SCP)\; offer growth\, advancement and recognition. The HR profession is no longer just about what you know   but how you do your job. By becoming SHRM certified\, you prove your knowledge\, competency and value to colleagues and to employers looking for a competitive edge in today's global economy. Wherever your career takes you\, your SHRM certification will define you as an HR expert and leader. Ensure you're prepared with our online course designed for SHRM credential candidates. Expand and test your knowledge and practical\, real-life competencies in areas critical for HR career success. This intensive twelve week program combines expert instruction with the 2019 SHRM Learning System .
X-ALT-DESC;FMTTYPE=text/html:Commit to Your Career Society for Human Resources Management&#39\;s (SHRM) global HR credentials: SHRM-Certified Professional (CP) and SHRM-Senior Certified Professional (SCP)\; offer growth\, advancement and recognition. The HR profession is no longer just about what you know &ndash\; but how you do your job. By becoming SHRM certified\, you prove your knowledge\, competency and value to colleagues and to employers looking for a competitive edge in today&#39\;s global economy. Wherever your career takes you\, your SHRM certification will define you as an HR expert and leader. Ensure you&#39\;re prepared with our online course designed for SHRM credential candidates. Expand and test your knowledge and practical\, real-life competencies in areas critical for HR career success. This intensive twelve week program combines expert instruction with the 2019 SHRM Learning System&reg\;.
LOCATION:Online
UID:e.2450.14266
SEQUENCE:3
DTSTAMP:20260420T223625Z
URL:http://education.hudsonwi.org/events/details/shrm-cp-or-scp-certification-preparation-14266
END:VEVENT

END:VCALENDAR
