BEGIN:VCALENDAR
VERSION:2.0
PRODID:-//ChamberMaster//Event Calendar 2.0//EN
METHOD:PUBLISH
X-PUBLISHED-TTL:P3D
REFRESH-INTERVAL:P3D
CALSCALE:GREGORIAN
BEGIN:VEVENT
DTSTART;VALUE=DATE:20190623
DTEND;VALUE=DATE:20190628
TRANSP:TRANSPARENT
X-MICROSOFT-CDO-ALLDAYEVENT:TRUE
SUMMARY:National Rural Institute on Alcohol and Drug Abuse
DESCRIPTION:This unique rural alcohol and drug abuse conference provides participants the opportunity to personally interact with other rural alcohol and drug abuse professionals\, federal agency representatives and nationally known Institute faculty and resource individuals while accessing the latest in evidence-based practices for the improvement of rural services. Key resource professionals from throughout the U.S. will present intensive study tracks and special topics on current\, innovative and emerging topics. CEU's available.\n\n\n\nMark your calendars and plan to join us for the 35th National Rural Institute on Alcohol and Drug Abuse!
X-ALT-DESC;FMTTYPE=text/html:This unique rural alcohol and drug abuse conference provides participants the opportunity to personally interact with other rural alcohol and drug abuse professionals\, federal agency representatives and nationally known Institute faculty and resource individuals while accessing the latest in evidence-based practices for the improvement of rural services. Key resource professionals from throughout the U.S. will present intensive study tracks and special topics on current\, innovative and emerging topics. CEU&#39\;s available.<br />\n<br />\nMark your calendars and plan to join us for the 35th National Rural Institute on Alcohol and Drug Abuse!
LOCATION:UW-Stout Memorial Student Center 302 10th Ave E\, Menomonie\, WI 54751
UID:e.2450.14277
SEQUENCE:3
DTSTAMP:20260421T045323Z
URL:http://education.hudsonwi.org/events/details/national-rural-institute-on-alcohol-and-drug-abuse-14277
END:VEVENT

END:VCALENDAR
