BEGIN:VCALENDAR
VERSION:2.0
PRODID:-//ChamberMaster//Event Calendar 2.0//EN
METHOD:PUBLISH
X-PUBLISHED-TTL:P3D
REFRESH-INTERVAL:P3D
CALSCALE:GREGORIAN
BEGIN:VEVENT
DTSTART:20180203T160000Z
DTEND:20180203T180000Z
X-MICROSOFT-CDO-ALLDAYEVENT:FALSE
SUMMARY:Learn to Snowshoe - Glen Hills County Park
DESCRIPTION:After the first few steps along the Guided trail\, you will be on your way to this fun outdoor activity. Bring your own snowshoes or rent one of our limited pairs. Multiple events across St. Croix County will allow you to explore new areas. (1/13 - Stanton Forest\, 1/27 - Homestead Parklands on Perch Lake\, 2/17 - Kinnickinnic County Forest)
X-ALT-DESC;FMTTYPE=text/html:After the first few steps along the Guided trail\, you will be on your way to this fun outdoor activity. Bring your own snowshoes or rent one of our limited pairs. Multiple events across St. Croix County will allow you to explore new areas. (1/13 - Stanton Forest\, 1/27 - Homestead Parklands on Perch Lake\, 2/17 - Kinnickinnic County Forest)
LOCATION:Glen Hills Park 1049 RR #3\, Glenwood City 54013
UID:e.2450.9006
SEQUENCE:3
DTSTAMP:20260422T103939Z
URL:http://education.hudsonwi.org/events/details/learn-to-snowshoe-glen-hills-county-park-9006
END:VEVENT

END:VCALENDAR
