BEGIN:VCALENDAR
VERSION:2.0
PRODID:-//ChamberMaster//Event Calendar 2.0//EN
METHOD:PUBLISH
X-PUBLISHED-TTL:P3D
REFRESH-INTERVAL:P3D
CALSCALE:GREGORIAN
BEGIN:VEVENT
DTSTART:20190612T133000Z
DTEND:20190612T213000Z
X-MICROSOFT-CDO-ALLDAYEVENT:FALSE
SUMMARY:Growing Up Transgender Workshop
DESCRIPTION:An interactive\, noncredit workshop designed for professionals serving in Health and Human Services positions.  Attend this workshop to better understand and navigate the intricacies of the LGBTQ community.  Fee: $189 (register before May 1 and save $30).  Lunch included.  CEUs available. Offered in partnership with UW-Eau Claire Continuing Education.
X-ALT-DESC;FMTTYPE=text/html:<p>An interactive\, noncredit workshop designed for professionals serving in Health and Human Services positions.&nbsp\; Attend this workshop to better understand and navigate the intricacies of the LGBTQ community.&nbsp\; Fee: $189 (register before May 1 and save $30).&nbsp\; Lunch included.&nbsp\; CEUs available. Offered in partnership with UW-Eau Claire Continuing Education.</p>\n\n<p>&nbsp\;</p>\n
LOCATION:St. Croix Valley Business Innovation Center
UID:e.2450.14100
SEQUENCE:3
DTSTAMP:20260421T045144Z
URL:http://education.hudsonwi.org/events/details/growing-up-transgender-workshop-14100
END:VEVENT

END:VCALENDAR
