BEGIN:VCALENDAR
VERSION:2.0
PRODID:-//ChamberMaster//Event Calendar 2.0//EN
METHOD:PUBLISH
X-PUBLISHED-TTL:P3D
REFRESH-INTERVAL:P3D
CALSCALE:GREGORIAN
BEGIN:VEVENT
DTSTART:20191029T133000Z
DTEND:20191029T213000Z
X-MICROSOFT-CDO-ALLDAYEVENT:FALSE
SUMMARY:2019 Criminal Justice and Rehabilitation Conference
DESCRIPTION:Reducing Recidivism: Evidence Based Practices and Interventions\n\n \n\nThe 2019 conference will focus on what criminal justice agencies (e.g.\, law enforcement\, court systems\, restorative justice\, jail and prison systems)\, human service agencies (e.g.\, mental health\, substance abuse\, trauma informed care\, assistance for those transitioning into the community)\, and the role that the community plays in the improvement and effectiveness of the criminal justice system.\n\n \n\nSponsored by: UW-Stout's Criminal Justice and Rehabilitation Program
X-ALT-DESC;FMTTYPE=text/html:<strong><span style="color:#343F47"><span style="font-family:franklin gothic">Reducing Recidivism: Evidence Based Practices and Interventions</span></span></strong><br />\n&nbsp\;<br />\n<span style="color:#343F47"><span style="font-family:franklin gothic">The 2019 conference will&nbsp\;focus&nbsp\;on what criminal justice agencies (e.g.\, law enforcement\, court systems\, restorative justice\, jail and prison systems)\, human service agencies (e.g.\, mental health\, substance abuse\, trauma informed care\, assistance for those transitioning into the community)\, and the role that the community plays in the improvement and effectiveness of the criminal justice system.</span></span><br />\n&nbsp\;<br />\n<strong><span style="font-family:calibri\,sans-serif"><span style="font-size:10.0pt">Sponsored by:</span></span></strong><span style="font-size:10.0pt"> UW-Stout&rsquo\;s Criminal Justice and Rehabilitation Program</span>
LOCATION:UW-Stout Memorial Student Center\, 302 10th Ave. E.\, Menomonie\, WI
UID:e.2450.14662
SEQUENCE:3
DTSTAMP:20260420T204808Z
URL:http://education.hudsonwi.org/events/details/2019-criminal-justice-and-rehabilitation-conference-14662
END:VEVENT

END:VCALENDAR
